Package: Rhtslib Version: 3.6.0 Command: /home/biocbuild/R/R/bin/R CMD build --keep-empty-dirs --no-resave-data Rhtslib StartedAt: 2025-11-14 04:37:41 -0000 (Fri, 14 Nov 2025) EndedAt: 2025-11-14 04:39:59 -0000 (Fri, 14 Nov 2025) EllapsedTime: 138.0 seconds RetCode: 0 Status: OK PackageFile: Rhtslib_3.6.0.tar.gz PackageFileSize: 4.935 MiB