Package: Rhtslib Version: 3.5.1 Command: /home/biocbuild/bbs-3.22-bioc/R/bin/R CMD check --install=check:Rhtslib.install-out.txt --library=/home/biocbuild/bbs-3.22-bioc/R/site-library --timings Rhtslib_3.5.1.tar.gz StartedAt: 2025-10-25 03:22:24 -0400 (Sat, 25 Oct 2025) EndedAt: 2025-10-25 03:22:42 -0400 (Sat, 25 Oct 2025) EllapsedTime: 18.0 seconds RetCode: 0 Status: OK CheckDir: Rhtslib.Rcheck Warnings: 0