Package: Rhtslib Version: 3.5.1 Command: /Library/Frameworks/R.framework/Resources/bin/R CMD INSTALL Rhtslib StartedAt: 2025-10-24 15:13:21 -0400 (Fri, 24 Oct 2025) EndedAt: 2025-10-24 15:14:03 -0400 (Fri, 24 Oct 2025) EllapsedTime: 41.6 seconds RetCode: 0 Status: OK