Package: Rhtslib Version: 3.5.1 Command: rm -rf Rhtslib.buildbin-libdir && mkdir Rhtslib.buildbin-libdir && /Users/biocbuild/BBS/utils/build-universal.sh Rhtslib_3.5.1.tar.gz /Library/Frameworks/R.framework/Resources/bin/R Rhtslib.buildbin-libdir StartedAt: 2025-10-24 23:16:28 -0400 (Fri, 24 Oct 2025) EndedAt: 2025-10-24 23:16:42 -0400 (Fri, 24 Oct 2025) EllapsedTime: 14.3 seconds RetCode: 0 Status: OK PackageFile: Rhtslib_3.5.1.tgz PackageFileSize: 3.214 MiB