Package: Rhtslib Version: 3.5.1 Maintainer: Hervé Pagès MaintainerEmail: hpages.on.github at gmail.com git_url: https://git.bioconductor.org/packages/Rhtslib git_branch: devel git_last_commit: fd16f2e git_last_commit_date: 2025-10-19 20:39:32 -0400 (Sun, 19 Oct 2025)