Package: Rhisat2 Version: 1.25.0 Command: /home/biocbuild/bbs-3.22-bioc/R/bin/R CMD INSTALL Rhisat2 StartedAt: 2025-10-24 15:55:13 -0400 (Fri, 24 Oct 2025) EndedAt: 2025-10-24 15:58:37 -0400 (Fri, 24 Oct 2025) EllapsedTime: 203.5 seconds RetCode: 0 Status: OK