Package: Rhdf5lib Version: 1.31.1 Command: /home/biocbuild/R/R/bin/R CMD INSTALL Rhdf5lib StartedAt: 2025-10-23 20:16:31 -0000 (Thu, 23 Oct 2025) EndedAt: 2025-10-23 20:21:59 -0000 (Thu, 23 Oct 2025) EllapsedTime: 328.2 seconds RetCode: 0 Status: OK