Package: Rhdf5lib Version: 1.31.1 Command: /home/biocbuild/R/R/bin/R CMD build --keep-empty-dirs --no-resave-data Rhdf5lib StartedAt: 2025-10-21 02:27:06 -0000 (Tue, 21 Oct 2025) EndedAt: 2025-10-21 02:32:31 -0000 (Tue, 21 Oct 2025) EllapsedTime: 325.2 seconds RetCode: 0 Status: OK PackageFile: Rhdf5lib_1.31.1.tar.gz PackageFileSize: 11.55 MiB