Package: Rhdf5lib Version: 1.31.1 Command: /home/biocbuild/bbs-3.22-bioc/R/bin/R CMD INSTALL Rhdf5lib StartedAt: 2025-10-24 15:12:30 -0400 (Fri, 24 Oct 2025) EndedAt: 2025-10-24 15:16:05 -0400 (Fri, 24 Oct 2025) EllapsedTime: 214.9 seconds RetCode: 0 Status: OK