Package: Rhdf5lib Version: 1.31.1 Command: /Library/Frameworks/R.framework/Resources/bin/R CMD INSTALL Rhdf5lib StartedAt: 2025-10-24 15:12:06 -0400 (Fri, 24 Oct 2025) EndedAt: 2025-10-24 15:18:02 -0400 (Fri, 24 Oct 2025) EllapsedTime: 356.2 seconds RetCode: 0 Status: OK