Package: Rhdf5lib Version: 1.31.1 Command: /Library/Frameworks/R.framework/Resources/bin/R CMD build --keep-empty-dirs --no-resave-data Rhdf5lib StartedAt: 2025-10-24 18:28:30 -0400 (Fri, 24 Oct 2025) EndedAt: 2025-10-24 18:35:13 -0400 (Fri, 24 Oct 2025) EllapsedTime: 402.8 seconds RetCode: 0 Status: OK PackageFile: Rhdf5lib_1.31.1.tar.gz PackageFileSize: 11.5 MiB