Package: Rhdf5lib Version: 1.31.1 Command: rm -rf Rhdf5lib.buildbin-libdir && mkdir Rhdf5lib.buildbin-libdir && /Users/biocbuild/BBS/utils/build-universal.sh Rhdf5lib_1.31.1.tar.gz /Library/Frameworks/R.framework/Resources/bin/R Rhdf5lib.buildbin-libdir StartedAt: 2025-10-25 01:59:15 -0400 (Sat, 25 Oct 2025) EndedAt: 2025-10-25 02:08:57 -0400 (Sat, 25 Oct 2025) EllapsedTime: 581.9 seconds RetCode: 0 Status: OK PackageFile: Rhdf5lib_1.31.1.tgz PackageFileSize: 9.636 MiB