Package: Rhdf5lib Version: 1.31.1 Maintainer: Hugo Gruson MaintainerEmail: hugo.gruson at embl.de git_url: https://git.bioconductor.org/packages/Rhdf5lib git_branch: devel git_last_commit: 9e0d8c0 git_last_commit_date: 2025-10-14 03:30:30 -0400 (Tue, 14 Oct 2025)