Back to Multiple platform build/check report for BioC 3.22:   simplified   long
ABCDEFGHIJKLMNOPQ[R]STUVWXYZ

This page was generated on 2025-10-24 12:03 -0400 (Fri, 24 Oct 2025).

HostnameOSArch (*)R versionInstalled pkgs
nebbiolo2Linux (Ubuntu 24.04.3 LTS)x86_644.5.1 Patched (2025-08-23 r88802) -- "Great Square Root" 4898
lconwaymacOS 12.7.6 Montereyx86_644.5.1 Patched (2025-09-10 r88807) -- "Great Square Root" 4688
kjohnson3macOS 13.7.7 Venturaarm644.5.1 Patched (2025-09-10 r88807) -- "Great Square Root" 4634
taishanLinux (openEuler 24.03 LTS)aarch644.5.0 (2025-04-11) -- "How About a Twenty-Six" 4658
Click on any hostname to see more info about the system (e.g. compilers)      (*) as reported by 'uname -p', except on Windows and Mac OS X

All results for package Rhdf5lib


To the developers/maintainers of the Rhdf5lib package:
- Allow up to 24 hours (and sometimes 48 hours) for your latest push to git@git.bioconductor.org:packages/Rhdf5lib.git to reflect on this report. See Troubleshooting Build Report for more information.
- Use the following Renviron settings to reproduce errors and warnings.
- If 'R CMD check' started to fail recently on the Linux builder(s) over a missing dependency, add the missing dependency to 'Suggests:' in your DESCRIPTION file. See Renviron.bioc for more information.

raw results

Package 1789/2359HostnameOS / ArchINSTALLBUILDCHECKBUILD BIN
Rhdf5lib 1.31.1  (landing page)
Hugo Gruson
Snapshot Date: 2025-10-23 14:17 -0400 (Thu, 23 Oct 2025)
git_url: https://git.bioconductor.org/packages/Rhdf5lib
git_branch: devel
git_last_commit: 9e0d8c0
git_last_commit_date: 2025-10-14 03:30:30 -0400 (Tue, 14 Oct 2025)
nebbiolo2Linux (Ubuntu 24.04.3 LTS) / x86_64  OK    OK    WARNINGS  UNNEEDED, same version is already published
lconwaymacOS 12.7.6 Monterey / x86_64  OK    OK    WARNINGS    OK  UNNEEDED, same version is already published
kjohnson3macOS 13.7.7 Ventura / arm64  OK    OK    WARNINGS    OK  UNNEEDED, same version is already published
taishanLinux (openEuler 24.03 LTS) / aarch64  OK    OK    NA  



Results for Bioconductor software packages that depend directly on package Rhdf5lib

QUICK STATSOS / ArchINSTALLBUILDCHECKBUILD BIN
nebbiolo2Linux (Ubuntu 24.04.3 LTS) / x86_64
0015
0114
00122
lconwaymacOS 12.7.6 Monterey / x86_64
0015
0015
00132
0015
kjohnson3macOS 13.7.7 Ventura / arm64
0015
0015
00132
0015
taishanLinux (openEuler 24.03 LTS) / aarch64
0015
0015
0150
Package 1/15HostnameOS / ArchINSTALLBUILDCHECKBUILD BIN
alabaster.base 1.9.5  (landing page)
Aaron Lun
git_last_commit: d259a75
git_last_commit_date: 2025-07-25 04:32:40 -0400
nebbiolo2Linux (Ubuntu 24.04.3 LTS) / x86_64  OK    OK    WARNINGS  UNNEEDED, same version is already published
lconwaymacOS 12.7.6 Monterey / x86_64  OK    OK    WARNINGS    OK  UNNEEDED, same version is already published
kjohnson3macOS 13.7.7 Ventura / arm64  OK    OK    WARNINGS    OK  UNNEEDED, same version is already published
taishanLinux (openEuler 24.03 LTS) / aarch64  OK    OK    WARNINGS  
Package 2/15HostnameOS / ArchINSTALLBUILDCHECKBUILD BIN
beachmat.hdf5 1.7.2  (landing page)
Aaron Lun
git_last_commit: fedbe05
git_last_commit_date: 2025-10-09 14:34:48 -0400
nebbiolo2Linux (Ubuntu 24.04.3 LTS) / x86_64  OK    OK    WARNINGS  UNNEEDED, same version is already published
lconwaymacOS 12.7.6 Monterey / x86_64  OK    OK    WARNINGS    OK  UNNEEDED, same version is already published
kjohnson3macOS 13.7.7 Ventura / arm64  OK    OK    WARNINGS    OK  UNNEEDED, same version is already published
taishanLinux (openEuler 24.03 LTS) / aarch64  OK    OK    WARNINGS  
Package 3/15HostnameOS / ArchINSTALLBUILDCHECKBUILD BIN
chihaya 1.9.0  (landing page)
Aaron Lun
git_last_commit: cf0c4f5
git_last_commit_date: 2025-04-15 13:10:45 -0400
nebbiolo2Linux (Ubuntu 24.04.3 LTS) / x86_64  OK    OK    WARNINGS  UNNEEDED, same version is already published
lconwaymacOS 12.7.6 Monterey / x86_64  OK    OK    WARNINGS    OK  UNNEEDED, same version is already published
kjohnson3macOS 13.7.7 Ventura / arm64  OK    OK    WARNINGS    OK  UNNEEDED, same version is already published
taishanLinux (openEuler 24.03 LTS) / aarch64  OK    OK    WARNINGS  
Package 4/15HostnameOS / ArchINSTALLBUILDCHECKBUILD BIN
cytolib 2.21.0  (landing page)
Mike Jiang
git_last_commit: 788a8aa
git_last_commit_date: 2025-04-15 11:13:26 -0400
nebbiolo2Linux (Ubuntu 24.04.3 LTS) / x86_64  OK    OK    WARNINGS  UNNEEDED, same version is already published
lconwaymacOS 12.7.6 Monterey / x86_64  OK    OK    WARNINGS    OK  UNNEEDED, same version is already published
kjohnson3macOS 13.7.7 Ventura / arm64  OK    OK    WARNINGS    OK  UNNEEDED, same version is already published
taishanLinux (openEuler 24.03 LTS) / aarch64  OK    OK    WARNINGS  
Package 5/15HostnameOS / ArchINSTALLBUILDCHECKBUILD BIN
CytoML 2.21.0  (landing page)
Mike Jiang
git_last_commit: 14d4f19
git_last_commit_date: 2025-04-15 11:03:15 -0400
nebbiolo2Linux (Ubuntu 24.04.3 LTS) / x86_64  OK    OK    WARNINGS  UNNEEDED, same version is already published
lconwaymacOS 12.7.6 Monterey / x86_64  OK    OK    WARNINGS    OK  UNNEEDED, same version is already published
kjohnson3macOS 13.7.7 Ventura / arm64  OK    OK    WARNINGS    OK  UNNEEDED, same version is already published
taishanLinux (openEuler 24.03 LTS) / aarch64  OK    OK    WARNINGS  
Package 6/15HostnameOS / ArchINSTALLBUILDCHECKBUILD BIN
DropletUtils 1.29.7  (landing page)
Jonathan Griffiths
git_last_commit: d85890b
git_last_commit_date: 2025-08-27 13:53:10 -0400
nebbiolo2Linux (Ubuntu 24.04.3 LTS) / x86_64  OK    OK    WARNINGS  UNNEEDED, same version is already published
lconwaymacOS 12.7.6 Monterey / x86_64  OK    OK    WARNINGS    OK  UNNEEDED, same version is already published
kjohnson3macOS 13.7.7 Ventura / arm64  OK    OK    WARNINGS    OK  UNNEEDED, same version is already published
taishanLinux (openEuler 24.03 LTS) / aarch64  OK    OK    ERROR  
Package 7/15HostnameOS / ArchINSTALLBUILDCHECKBUILD BIN
epigraHMM 1.17.3  (landing page)
Pedro Baldoni
git_last_commit: 4d03bb7
git_last_commit_date: 2025-09-15 17:35:46 -0400
nebbiolo2Linux (Ubuntu 24.04.3 LTS) / x86_64  OK    ERROR  skipped
lconwaymacOS 12.7.6 Monterey / x86_64  OK    OK    WARNINGS    OK  UNNEEDED, same version is already published
kjohnson3macOS 13.7.7 Ventura / arm64  OK    OK    WARNINGS    OK  UNNEEDED, same version is already published
taishanLinux (openEuler 24.03 LTS) / aarch64  OK    OK    NA  
Package 8/15HostnameOS / ArchINSTALLBUILDCHECKBUILD BIN
flowWorkspace 4.21.0  (landing page)
Greg Finak , Mike Jiang
git_last_commit: 1457874
git_last_commit_date: 2025-04-15 10:08:27 -0400
nebbiolo2Linux (Ubuntu 24.04.3 LTS) / x86_64  OK    OK    WARNINGS  UNNEEDED, same version is already published
lconwaymacOS 12.7.6 Monterey / x86_64  OK    OK    WARNINGS    OK  UNNEEDED, same version is already published
kjohnson3macOS 13.7.7 Ventura / arm64  OK    OK    WARNINGS    OK  UNNEEDED, same version is already published
taishanLinux (openEuler 24.03 LTS) / aarch64  OK    OK    NA  
Package 9/15HostnameOS / ArchINSTALLBUILDCHECKBUILD BIN
h5mread 1.1.1  (landing page)
Hervé Pagès
git_last_commit: 519affb
git_last_commit_date: 2025-08-28 23:12:22 -0400
nebbiolo2Linux (Ubuntu 24.04.3 LTS) / x86_64  OK    OK    WARNINGS  UNNEEDED, same version is already published
lconwaymacOS 12.7.6 Monterey / x86_64  OK    OK    WARNINGS    OK  UNNEEDED, same version is already published
kjohnson3macOS 13.7.7 Ventura / arm64  OK    OK    WARNINGS    OK  UNNEEDED, same version is already published
taishanLinux (openEuler 24.03 LTS) / aarch64  OK    OK    NA  
Package 10/15HostnameOS / ArchINSTALLBUILDCHECKBUILD BIN
mbkmeans 1.25.0  (landing page)
Davide Risso
git_last_commit: fe624b7
git_last_commit_date: 2025-04-15 11:43:11 -0400
nebbiolo2Linux (Ubuntu 24.04.3 LTS) / x86_64  OK    OK    OK  UNNEEDED, same version is already published
lconwaymacOS 12.7.6 Monterey / x86_64  OK    OK    OK    OK  UNNEEDED, same version is already published
kjohnson3macOS 13.7.7 Ventura / arm64  OK    OK    OK    OK  UNNEEDED, same version is already published
taishanLinux (openEuler 24.03 LTS) / aarch64  OK    OK    NA  
Package 11/15HostnameOS / ArchINSTALLBUILDCHECKBUILD BIN
mzR 2.43.3  (landing page)
Steffen Neumann
git_last_commit: 15fde15
git_last_commit_date: 2025-09-02 09:59:24 -0400
nebbiolo2Linux (Ubuntu 24.04.3 LTS) / x86_64  OK    OK    WARNINGS  UNNEEDED, same version is already published
lconwaymacOS 12.7.6 Monterey / x86_64  OK    OK    WARNINGS    OK  UNNEEDED, same version is already published
kjohnson3macOS 13.7.7 Ventura / arm64  OK    OK    WARNINGS    OK  UNNEEDED, same version is already published
taishanLinux (openEuler 24.03 LTS) / aarch64  OK    OK    NA  
Package 12/15HostnameOS / ArchINSTALLBUILDCHECKBUILD BIN
ncdfFlow 2.55.0  (landing page)
Mike Jiang
git_last_commit: c968b1a
git_last_commit_date: 2025-04-15 10:11:30 -0400
nebbiolo2Linux (Ubuntu 24.04.3 LTS) / x86_64  OK    OK    WARNINGS  UNNEEDED, same version is already published
lconwaymacOS 12.7.6 Monterey / x86_64  OK    OK    WARNINGS    OK  UNNEEDED, same version is already published
kjohnson3macOS 13.7.7 Ventura / arm64  OK    OK    WARNINGS    OK  UNNEEDED, same version is already published
taishanLinux (openEuler 24.03 LTS) / aarch64  OK    OK    NA  
Package 13/15HostnameOS / ArchINSTALLBUILDCHECKBUILD BIN
rhdf5 2.53.6  (landing page)
Hugo Gruson
git_last_commit: 919a739
git_last_commit_date: 2025-10-09 05:30:36 -0400
nebbiolo2Linux (Ubuntu 24.04.3 LTS) / x86_64  OK    OK    WARNINGS  UNNEEDED, same version is already published
lconwaymacOS 12.7.6 Monterey / x86_64  OK    OK    WARNINGS    OK  UNNEEDED, same version is already published
kjohnson3macOS 13.7.7 Ventura / arm64  OK    OK    WARNINGS    OK  UNNEEDED, same version is already published
taishanLinux (openEuler 24.03 LTS) / aarch64  OK    OK    NA  
Package 14/15HostnameOS / ArchINSTALLBUILDCHECKBUILD BIN
rhdf5filters 1.21.4  (landing page)
Hugo Gruson
git_last_commit: cb67d48
git_last_commit_date: 2025-10-14 05:05:49 -0400
nebbiolo2Linux (Ubuntu 24.04.3 LTS) / x86_64  OK    OK    OK  UNNEEDED, same version is already published
lconwaymacOS 12.7.6 Monterey / x86_64  OK    OK    OK    OK  UNNEEDED, same version is already published
kjohnson3macOS 13.7.7 Ventura / arm64  OK    OK    OK    OK  UNNEEDED, same version is already published
taishanLinux (openEuler 24.03 LTS) / aarch64  OK    OK    NA  
Package 15/15HostnameOS / ArchINSTALLBUILDCHECKBUILD BIN
stPipe 0.99.995  (landing page)
Yang Xu
git_last_commit: c0b834c
git_last_commit_date: 2025-10-16 03:23:29 -0400
nebbiolo2Linux (Ubuntu 24.04.3 LTS) / x86_64  OK    OK    WARNINGS  UNNEEDED, same version is already published
lconwaymacOS 12.7.6 Monterey / x86_64  OK    OK    WARNINGS    OK  UNNEEDED, same version is already published
kjohnson3macOS 13.7.7 Ventura / arm64  OK    OK    WARNINGS    OK  UNNEEDED, same version is already published
taishanLinux (openEuler 24.03 LTS) / aarch64  OK    OK    NA