Package: Rgraphviz Version: 2.54.0 Command: /home/biocbuild/R/R/bin/R CMD build --keep-empty-dirs --no-resave-data Rgraphviz StartedAt: 2025-11-14 04:35:44 -0000 (Fri, 14 Nov 2025) EndedAt: 2025-11-14 04:37:44 -0000 (Fri, 14 Nov 2025) EllapsedTime: 120.0 seconds RetCode: 0 Status: OK PackageFile: Rgraphviz_2.54.0.tar.gz PackageFileSize: 7.284 MiB