Package: ResidualMatrix Version: 1.19.0 Command: /Library/Frameworks/R.framework/Resources/bin/R CMD build --keep-empty-dirs --no-resave-data ResidualMatrix StartedAt: 2025-10-24 18:27:15 -0400 (Fri, 24 Oct 2025) EndedAt: 2025-10-24 18:28:05 -0400 (Fri, 24 Oct 2025) EllapsedTime: 50.2 seconds RetCode: 0 Status: OK PackageFile: ResidualMatrix_1.19.0.tar.gz PackageFileSize: 335.6 KiB