Package: ResidualMatrix Version: 1.19.0 Command: /Library/Frameworks/R.framework/Resources/bin/R CMD INSTALL ResidualMatrix StartedAt: 2025-10-24 15:10:58 -0400 (Fri, 24 Oct 2025) EndedAt: 2025-10-24 15:11:05 -0400 (Fri, 24 Oct 2025) EllapsedTime: 7.0 seconds RetCode: 0 Status: OK