Package: ReportingTools Version: 2.49.0 Command: /home/biocbuild/bbs-3.22-bioc/R/bin/R CMD INSTALL ReportingTools StartedAt: 2025-10-24 15:57:40 -0400 (Fri, 24 Oct 2025) EndedAt: 2025-10-24 15:58:40 -0400 (Fri, 24 Oct 2025) EllapsedTime: 60.1 seconds RetCode: 0 Status: OK