Package: ReportingTools Version: 2.49.0 Command: /home/biocbuild/bbs-3.22-bioc/R/bin/R CMD build --keep-empty-dirs --no-resave-data --md5 ReportingTools StartedAt: 2025-10-24 19:44:16 -0400 (Fri, 24 Oct 2025) EndedAt: 2025-10-24 19:45:24 -0400 (Fri, 24 Oct 2025) EllapsedTime: 68.1 seconds RetCode: 0 Status: OK PackageFile: ReportingTools_2.49.0.tar.gz PackageFileSize: 1.791 MiB