Package: ReportingTools Version: 2.49.0 Command: /Library/Frameworks/R.framework/Resources/bin/R CMD INSTALL ReportingTools StartedAt: 2025-10-24 15:49:08 -0400 (Fri, 24 Oct 2025) EndedAt: 2025-10-24 15:50:31 -0400 (Fri, 24 Oct 2025) EllapsedTime: 82.8 seconds RetCode: 0 Status: OK