Package: ReportingTools Version: 2.49.0 Command: /Library/Frameworks/R.framework/Resources/bin/R CMD build --keep-empty-dirs --no-resave-data ReportingTools StartedAt: 2025-10-24 18:27:09 -0400 (Fri, 24 Oct 2025) EndedAt: 2025-10-24 18:28:43 -0400 (Fri, 24 Oct 2025) EllapsedTime: 93.8 seconds RetCode: 0 Status: OK PackageFile: ReportingTools_2.49.0.tar.gz PackageFileSize: 1.784 MiB