Package: ReportingTools Version: 2.49.0 Command: rm -rf ReportingTools.buildbin-libdir && mkdir ReportingTools.buildbin-libdir && /Users/biocbuild/BBS/utils/build-universal.sh ReportingTools_2.49.0.tar.gz /Library/Frameworks/R.framework/Resources/bin/R ReportingTools.buildbin-libdir StartedAt: 2025-10-25 01:58:45 -0400 (Sat, 25 Oct 2025) EndedAt: 2025-10-25 02:00:12 -0400 (Sat, 25 Oct 2025) EllapsedTime: 86.2 seconds RetCode: 0 Status: OK PackageFile: ReportingTools_2.49.0.tgz PackageFileSize: 1.816 MiB