Package: ReportingTools Version: 2.49.0 Command: /Library/Frameworks/R.framework/Resources/bin/R CMD INSTALL ReportingTools StartedAt: 2025-10-26 15:24:40 -0400 (Sun, 26 Oct 2025) EndedAt: 2025-10-26 15:25:05 -0400 (Sun, 26 Oct 2025) EllapsedTime: 25.5 seconds RetCode: 0 Status: OK