Package: ReportingTools Version: 2.49.0 Command: rm -rf ReportingTools.buildbin-libdir && mkdir ReportingTools.buildbin-libdir && /Users/biocbuild/BBS/utils/build-universal.sh ReportingTools_2.49.0.tar.gz /Library/Frameworks/R.framework/Resources/bin/R ReportingTools.buildbin-libdir StartedAt: 2025-10-26 22:45:34 -0400 (Sun, 26 Oct 2025) EndedAt: 2025-10-26 22:46:00 -0400 (Sun, 26 Oct 2025) EllapsedTime: 25.4 seconds RetCode: 0 Status: OK PackageFile: ReportingTools_2.49.0.tgz PackageFileSize: 1.818 MiB