Package: Repitools Version: 1.55.2 Command: /Library/Frameworks/R.framework/Resources/bin/R CMD build --keep-empty-dirs --no-resave-data Repitools StartedAt: 2025-10-24 18:27:07 -0400 (Fri, 24 Oct 2025) EndedAt: 2025-10-24 18:27:09 -0400 (Fri, 24 Oct 2025) EllapsedTime: 2.3 seconds RetCode: 1 Status: ERROR PackageFile: None PackageFileSize: NA