Package: Repitools Version: 1.55.2 Maintainer: Mark Robinson MaintainerEmail: mark.robinson at mls.uzh.ch git_url: https://git.bioconductor.org/packages/Repitools git_branch: devel git_last_commit: 07ba2e2 git_last_commit_date: 2025-10-06 08:19:18 -0400 (Mon, 06 Oct 2025)