Package: RepViz Version: 1.25.0 Command: /home/biocbuild/bbs-3.22-bioc/R/bin/R CMD INSTALL RepViz StartedAt: 2025-10-27 15:29:39 -0400 (Mon, 27 Oct 2025) EndedAt: 2025-10-27 15:29:55 -0400 (Mon, 27 Oct 2025) EllapsedTime: 15.8 seconds RetCode: 0 Status: OK