Package: RepViz Version: 1.25.0 Command: /home/biocbuild/bbs-3.22-bioc/R/bin/R CMD build --keep-empty-dirs --no-resave-data --md5 RepViz StartedAt: 2025-10-24 19:44:21 -0400 (Fri, 24 Oct 2025) EndedAt: 2025-10-24 19:44:51 -0400 (Fri, 24 Oct 2025) EllapsedTime: 30.0 seconds RetCode: 1 Status: ERROR PackageFile: None PackageFileSize: NA