Package: RepViz Version: 1.25.0 Command: /Library/Frameworks/R.framework/Resources/bin/R CMD INSTALL RepViz StartedAt: 2025-10-24 15:34:25 -0400 (Fri, 24 Oct 2025) EndedAt: 2025-10-24 15:34:47 -0400 (Fri, 24 Oct 2025) EllapsedTime: 22.2 seconds RetCode: 0 Status: OK