Package: RepViz Version: 1.25.0 Command: rm -rf RepViz.buildbin-libdir && mkdir RepViz.buildbin-libdir && /Users/biocbuild/BBS/utils/build-universal.sh RepViz_1.25.0.tar.gz /Library/Frameworks/R.framework/Resources/bin/R RepViz.buildbin-libdir StartedAt: 2025-09-17 01:31:58 -0400 (Wed, 17 Sep 2025) EndedAt: 2025-09-17 01:32:23 -0400 (Wed, 17 Sep 2025) EllapsedTime: 25.3 seconds RetCode: 0 Status: OK PackageFile: RepViz_1.25.0.tgz PackageFileSize: 313.9 KiB