Package: RepViz Version: 1.25.0 Command: /Library/Frameworks/R.framework/Resources/bin/R CMD build --keep-empty-dirs --no-resave-data RepViz StartedAt: 2025-10-24 17:30:17 -0400 (Fri, 24 Oct 2025) EndedAt: 2025-10-24 17:30:29 -0400 (Fri, 24 Oct 2025) EllapsedTime: 12.1 seconds RetCode: 1 Status: ERROR PackageFile: None PackageFileSize: NA