Package: RegionalST Version: 1.7.1 Command: /home/biocbuild/bbs-3.22-bioc/R/bin/R CMD INSTALL RegionalST StartedAt: 2025-10-24 16:08:01 -0400 (Fri, 24 Oct 2025) EndedAt: 2025-10-24 16:08:28 -0400 (Fri, 24 Oct 2025) EllapsedTime: 27.1 seconds RetCode: 0 Status: OK