Package: RegEnrich Version: 1.19.0 Command: /home/biocbuild/bbs-3.22-bioc/R/bin/R CMD INSTALL RegEnrich StartedAt: 2025-10-24 15:55:08 -0400 (Fri, 24 Oct 2025) EndedAt: 2025-10-24 15:55:44 -0400 (Fri, 24 Oct 2025) EllapsedTime: 36.3 seconds RetCode: 0 Status: OK