Package: ReducedExperiment Version: 1.1.2 Command: /home/biocbuild/bbs-3.22-bioc/R/bin/R CMD build --keep-empty-dirs --no-resave-data --md5 ReducedExperiment StartedAt: 2025-10-27 19:34:42 -0400 (Mon, 27 Oct 2025) EndedAt: 2025-10-27 19:37:15 -0400 (Mon, 27 Oct 2025) EllapsedTime: 153.1 seconds RetCode: 0 Status: OK PackageFile: ReducedExperiment_1.1.2.tar.gz PackageFileSize: 3.275 MiB