Package: ReducedExperiment Version: 1.1.2 Command: /Library/Frameworks/R.framework/Resources/bin/R CMD INSTALL ReducedExperiment StartedAt: 2025-10-28 15:26:22 -0400 (Tue, 28 Oct 2025) EndedAt: 2025-10-28 15:26:36 -0400 (Tue, 28 Oct 2025) EllapsedTime: 13.8 seconds RetCode: 0 Status: OK