Package: RedisParam Version: 1.11.0 Command: /Library/Frameworks/R.framework/Resources/bin/R CMD INSTALL RedisParam StartedAt: 2025-10-24 15:20:43 -0400 (Fri, 24 Oct 2025) EndedAt: 2025-10-24 15:21:16 -0400 (Fri, 24 Oct 2025) EllapsedTime: 32.1 seconds RetCode: 0 Status: OK