Package: RedisParam Version: 1.11.0 Command: rm -rf RedisParam.buildbin-libdir && mkdir RedisParam.buildbin-libdir && /Users/biocbuild/BBS/utils/build-universal.sh RedisParam_1.11.0.tar.gz /Library/Frameworks/R.framework/Resources/bin/R RedisParam.buildbin-libdir StartedAt: 2025-10-25 01:58:35 -0400 (Sat, 25 Oct 2025) EndedAt: 2025-10-25 01:58:44 -0400 (Sat, 25 Oct 2025) EllapsedTime: 9.2 seconds RetCode: 0 Status: OK PackageFile: RedisParam_1.11.0.tgz PackageFileSize: 1.002 MiB