Package: RedisParam Version: 1.11.0 Command: /Library/Frameworks/R.framework/Resources/bin/R CMD build --keep-empty-dirs --no-resave-data RedisParam StartedAt: 2025-10-24 17:29:23 -0400 (Fri, 24 Oct 2025) EndedAt: 2025-10-24 17:29:27 -0400 (Fri, 24 Oct 2025) EllapsedTime: 4.0 seconds RetCode: 0 Status: OK PackageFile: RedisParam_1.11.0.tar.gz PackageFileSize: 950.5 KiB