Package: RedisParam Version: 1.11.0 Command: rm -rf RedisParam.buildbin-libdir && mkdir RedisParam.buildbin-libdir && /Users/biocbuild/BBS/utils/build-universal.sh RedisParam_1.11.0.tar.gz /Library/Frameworks/R.framework/Resources/bin/R RedisParam.buildbin-libdir StartedAt: 2025-10-24 23:15:54 -0400 (Fri, 24 Oct 2025) EndedAt: 2025-10-24 23:15:57 -0400 (Fri, 24 Oct 2025) EllapsedTime: 2.1 seconds RetCode: 0 Status: OK PackageFile: RedisParam_1.11.0.tgz PackageFileSize: 1.002 MiB