Package: RedeR Version: 3.5.0 Command: /Library/Frameworks/R.framework/Resources/bin/R CMD INSTALL RedeR StartedAt: 2025-10-24 15:05:53 -0400 (Fri, 24 Oct 2025) EndedAt: 2025-10-24 15:06:03 -0400 (Fri, 24 Oct 2025) EllapsedTime: 9.7 seconds RetCode: 0 Status: OK