Package: RedeR Version: 3.5.0 Command: rm -rf RedeR.buildbin-libdir && mkdir RedeR.buildbin-libdir && /Users/biocbuild/BBS/utils/build-universal.sh RedeR_3.5.0.tar.gz /Library/Frameworks/R.framework/Resources/bin/R RedeR.buildbin-libdir StartedAt: 2025-10-24 23:15:53 -0400 (Fri, 24 Oct 2025) EndedAt: 2025-10-24 23:15:57 -0400 (Fri, 24 Oct 2025) EllapsedTime: 3.1 seconds RetCode: 0 Status: OK PackageFile: RedeR_3.5.0.tgz PackageFileSize: 3.63 MiB