Package: ReadqPCR Version: 1.55.0 Command: /home/biocbuild/bbs-3.22-bioc/R/bin/R CMD build --keep-empty-dirs --no-resave-data --md5 ReadqPCR StartedAt: 2025-10-24 19:42:21 -0400 (Fri, 24 Oct 2025) EndedAt: 2025-10-24 19:42:29 -0400 (Fri, 24 Oct 2025) EllapsedTime: 8.0 seconds RetCode: 0 Status: OK PackageFile: ReadqPCR_1.55.0.tar.gz PackageFileSize: 492.6 KiB