Package: ReadqPCR Version: 1.55.0 Command: /Library/Frameworks/R.framework/Resources/bin/R CMD INSTALL ReadqPCR StartedAt: 2025-10-27 15:06:57 -0400 (Mon, 27 Oct 2025) EndedAt: 2025-10-27 15:06:58 -0400 (Mon, 27 Oct 2025) EllapsedTime: 1.4 seconds RetCode: 0 Status: OK