Package: ReadqPCR Version: 1.55.0 Command: /Library/Frameworks/R.framework/Resources/bin/R CMD build --keep-empty-dirs --no-resave-data ReadqPCR StartedAt: 2025-10-26 17:41:17 -0400 (Sun, 26 Oct 2025) EndedAt: 2025-10-26 17:41:22 -0400 (Sun, 26 Oct 2025) EllapsedTime: 5.1 seconds RetCode: 0 Status: OK PackageFile: ReadqPCR_1.55.0.tar.gz PackageFileSize: 491.2 KiB