Package: ReadqPCR Version: 1.55.0 Command: rm -rf ReadqPCR.buildbin-libdir && mkdir ReadqPCR.buildbin-libdir && /Users/biocbuild/BBS/utils/build-universal.sh ReadqPCR_1.55.0.tar.gz /Library/Frameworks/R.framework/Resources/bin/R ReadqPCR.buildbin-libdir StartedAt: 2025-10-26 22:45:26 -0400 (Sun, 26 Oct 2025) EndedAt: 2025-10-26 22:45:28 -0400 (Sun, 26 Oct 2025) EllapsedTime: 2.0 seconds RetCode: 0 Status: OK PackageFile: ReadqPCR_1.55.0.tgz PackageFileSize: 569.2 KiB