Package: ReactomePA Version: 1.53.0 Command: /home/biocbuild/R/R/bin/R CMD INSTALL ReactomePA StartedAt: 2025-10-23 21:10:53 -0000 (Thu, 23 Oct 2025) EndedAt: 2025-10-23 21:11:24 -0000 (Thu, 23 Oct 2025) EllapsedTime: 30.6 seconds RetCode: 0 Status: OK