Package: ReactomePA Version: 1.53.0 Command: /home/biocbuild/bbs-3.22-bioc/R/bin/R CMD INSTALL ReactomePA StartedAt: 2025-10-24 15:57:27 -0400 (Fri, 24 Oct 2025) EndedAt: 2025-10-24 15:57:49 -0400 (Fri, 24 Oct 2025) EllapsedTime: 22.3 seconds RetCode: 0 Status: OK