Package: ReactomePA Version: 1.53.0 Command: /Library/Frameworks/R.framework/Resources/bin/R CMD INSTALL ReactomePA StartedAt: 2025-10-24 15:48:41 -0400 (Fri, 24 Oct 2025) EndedAt: 2025-10-24 15:49:13 -0400 (Fri, 24 Oct 2025) EllapsedTime: 32.0 seconds RetCode: 0 Status: OK