Package: ReactomePA Version: 1.53.0 Command: rm -rf ReactomePA.buildbin-libdir && mkdir ReactomePA.buildbin-libdir && /Users/biocbuild/BBS/utils/build-universal.sh ReactomePA_1.53.0.tar.gz /Library/Frameworks/R.framework/Resources/bin/R ReactomePA.buildbin-libdir StartedAt: 2025-10-25 01:58:27 -0400 (Sat, 25 Oct 2025) EndedAt: 2025-10-25 01:59:02 -0400 (Sat, 25 Oct 2025) EllapsedTime: 34.6 seconds RetCode: 0 Status: OK PackageFile: ReactomePA_1.53.0.tgz PackageFileSize: 92.6 KiB