Package: ReactomePA Version: 1.53.0 Command: /Library/Frameworks/R.framework/Resources/bin/R CMD build --keep-empty-dirs --no-resave-data ReactomePA StartedAt: 2025-10-24 17:29:08 -0400 (Fri, 24 Oct 2025) EndedAt: 2025-10-24 17:29:21 -0400 (Fri, 24 Oct 2025) EllapsedTime: 13.2 seconds RetCode: 0 Status: OK PackageFile: ReactomePA_1.53.0.tar.gz PackageFileSize: 57.18 KiB